BEGIN:VCALENDAR
VERSION:2.0
PRODID:-//Berdaya Media - ECPv6.9.1//NONSGML v1.0//EN
CALSCALE:GREGORIAN
METHOD:PUBLISH
X-WR-CALNAME:Berdaya Media
X-ORIGINAL-URL:https://berdayahub.com
X-WR-CALDESC:Events for Berdaya Media
REFRESH-INTERVAL;VALUE=DURATION:PT1H
X-Robots-Tag:noindex
X-PUBLISHED-TTL:PT1H
BEGIN:VTIMEZONE
TZID:UTC
BEGIN:STANDARD
TZOFFSETFROM:+0000
TZOFFSETTO:+0000
TZNAME:UTC
DTSTART:20240101T000000
END:STANDARD
END:VTIMEZONE
BEGIN:VEVENT
DTSTART;TZID=UTC:20240617T080000
DTEND;TZID=UTC:20240617T170000
DTSTAMP:20260421T230304
CREATED:20240617T163447Z
LAST-MODIFIED:20240708T153134Z
UID:2935-1718611200-1718643600@berdayahub.com
SUMMARY:[Social Enterpreneur Fellowship Programme] 2024 Springboard Elevate
DESCRIPTION:Applications are now open for the 2024 Springboard Elevate Programme\, hosted by Youth Co Lab!\n\nAre you a purpose-driven social entrepreneur leading impactful projects that benefit underrepresented communities? The Springboard Elevate Programme could be the perfect fit for you! This 3-month fellowship aims to support young social entrepreneurs by enhancing their leadership\, storytelling\, and resource mobilization skills.\nProgramme Highlights:\n\n 	Duration: September 5\, 2024 – December 5\, 2024\n 	Support: For courageous young founders driving change in local communities\n 	Network: Access to a vibrant community of young founders\, entrepreneurship support organizations\, and UN agencies\n 	Growth: Opportunity to amplify your impact and accelerate your venture development\n\nEligibility Criteria:\n\n 	Age: Founders aged 18-35 (according to their national definition of youth)\n 	Background: Applicants from underrepresented communities or projects serving marginalized communities\n 	Citizenship: Eligible countries in the Asia-Pacific region\n 	Stage: Projects must be at least at the Minimum Viable Product (MVP) stage\n 	Commitment: Dedication to addressing challenges faced by marginalized communities\n\nHow to Apply:\nSubmit your application form in English by August 15\, 2024. Shortlisted applicants will be contacted via email for the next steps.\n\nDon’t miss this opportunity to join a dynamic community driving positive change! Apply now and unleash your potential with the Springboard Elevate Programme.\n\n 	Application Deadline: August 15\, 2024\n 	Application form: https://bit.ly/3RdmFJA\n 	Learn more: https://bit.ly/4eaZKIL
URL:https://berdayahub.com/event/social-enterpreneur-fellowship-programme-2024-springboard-elevate/
ATTACH;FMTTYPE=image/jpeg:https://berdayahub.com/wp-content/uploads/2024/06/Youth-CoLab-Springboard-Elevate-Programme-2024.jpg
END:VEVENT
BEGIN:VEVENT
DTSTART;TZID=UTC:20240616T080000
DTEND;TZID=UTC:20240616T170000
DTSTAMP:20260421T230304
CREATED:20240616T080518Z
LAST-MODIFIED:20240616T080518Z
UID:2923-1718524800-1718557200@berdayahub.com
SUMMARY:[Social Entrepreneur Grant] D-Prize
DESCRIPTION:Are you driven by a desire to make a real impact in the world? Do you have an innovative idea to tackle pressing social issues in low- or middle-income countries? If so\, the D-Prize Challenge 2024 invites you to participate. With grants up to $20\,000\, D-Prize is ready to support organizations committed to fighting extreme poverty and fostering social change. \nAbout D-Prize\nD-Prize is dedicated to nurturing social impact organizations worldwide. Whether you’re a for-profit venture\, NGO\, or charity\, D-Prize believes in your potential to drive meaningful change. By providing financial support and guidance\, D-Prize aims to spark innovative solutions to some of the world’s most urgent challenges. \nChallenges\nThe D-Prize Challenge 2024 offers a variety of opportunities for social entrepreneurs to make a difference. Key challenges include: \nHealth Challenges:\n\nSelf-Injectable Contraceptive Challenge\nOxygen Challenge\nPatient Identification Challenge\nMaternal Health Challenge\nVoluntary Medical Male Circumcision Challenge\nPrevention of Mother-to-Child Transmission Challenge\nChild Immunization Challenge\nSugar Daddy Awareness Challenge\n\nWater Challenges:\n\nClean Access to Water Challenge\n\nAgriculture Challenges:\n\nQuality Inputs Challenge\nPost-Harvest Support Challenge\nPropose Your Own Agriculture Challenge\nPropose Your Own Livestock Challenge\n\nLivelihoods Challenges:\n\nPoverty Graduation Challenge\nPropose Your Own Financial Inclusion Challenge\n\nEnergy Challenges:\n\nSolar Lamp Challenge\n\nPublic Services Challenges:\n\nGovernment Transparency Challenge\nRoad Safety Challenge\n\nCustom Challenge:\n\nPropose Your Own Challenge\n\nFunding Information\nWinners of the D-Prize Challenge will receive grants of up to $20\,000\, provided as convertible grants. This financial support can help bring your innovative ideas to life and drive real-world impact. \nEligibility Criteria\nThe D-Prize Challenge is open to individuals and teams from all backgrounds. Whether you’re a seasoned entrepreneur or a newcomer with a bold idea\, you’re encouraged to apply. The only restriction is that individuals and their immediate family members serving on the judging panel cannot participate as contestants. D-Prize welcomes applications from all types of business models\, including for-profit\, non-profit\, and hybrid organizations. \nApplication Deadline: June 23\, 2024\nDon’t miss your chance to participate in the D-Prize Challenge 2024. Seize this opportunity to turn your innovative ideas into reality and create lasting social change. Click here to apply now. \nJoin the global movement of social entrepreneurs making a difference with D-Prize. Together\, we can build a brighter future for communities worldwide.
URL:https://berdayahub.com/event/social-entrepreneur-grant-d-prize/
END:VEVENT
BEGIN:VEVENT
DTSTART;VALUE=DATE:20240607
DTEND;VALUE=DATE:20240711
DTSTAMP:20260421T230304
CREATED:20240708T153948Z
LAST-MODIFIED:20240708T173806Z
UID:3432-1717718400-1720655999@berdayahub.com
SUMMARY:[Bootcamp Program] Matangi Bali Smart Energy Lab
DESCRIPTION:Untuk Semeton\, kaum muda dan perempuan yang ingin mengembangkan bisnis di bidang pariwisata berkelanjutan di Bali\, pendaftaran program Smart Energy Lab telah dibuka!!! \nSmart Energy Lab adalah program intensif selama 6 minggu yang dirancang khusus untuk memberdayakan kaum muda dan perempuan dengan pengetahuan\, keterampilan\, dan jaringan yang dibutuhkan untuk mengembangkan inovasi. \nPendaftaran diperpanjang sampai dengan 10 Juli 2024. Daftar sekarang di cutt.ly/inovasimatangi dan mulai perjalanan #MatangiBali pariwisata yang lebih cerah dan berkelanjutan \n#KoalisiBaliENB #SmartEnergyLab#PariwisataBerkelanjutan#Bali #InovasiPariwisata#PemberdayaanPerempuan#PemudaBerkreasi 
URL:https://berdayahub.com/event/bootcamp-program-matangi-bali-smart-energy-lab/
CATEGORIES:Bootcamp
ATTACH;FMTTYPE=image/png:https://berdayahub.com/wp-content/uploads/2024/07/Matangi-Project-3.png
END:VEVENT
BEGIN:VEVENT
DTSTART;VALUE=DATE:20240607
DTEND;VALUE=DATE:20240711
DTSTAMP:20260421T230304
CREATED:20240616T073028Z
LAST-MODIFIED:20240618T042857Z
UID:2918-1717718400-1720655999@berdayahub.com
SUMMARY:[Capacity Building Workshop] Sayur Sleman Academy Bootcamp 2024
DESCRIPTION:Pendaftaran Sayur Sleman Academy Bootcamp 2024 dibuka! \nDicari para wirausaha sektor pertanian di Daerah Istimewa Yogyakarta untuk mengikuti pelatihan intensif agar usaha pertanianmu semakin maju! \nApa yang akan kamu dapatkan sebagai peserta SSA Bootcamp 2024? \n✅ Tiga kelompok terbaik akan mendapatkan mini Grant untuk pengembangan usaha\n✅ Pelatihan intensif dengan narasumber ahli di bidangnya.\n✅ Sesi mentoring.\n✅ Sertifikat peserta.\n✅Tergabung di ekosistem Sayur Sleman Academy dan Tandurasa\n✅ Akses ke Youth Co:Lab National 2024 \nDaftarkan segera kelompokmu melalui s.id/ssabootcamp2024 maksimal 10 Juli 2024 ya! \nNarahubung program : Ana (08998390800) \nPENDAFTARAN & ACARA INI TIDAK DIPUNGUT BIAYA \n—\nSSA Bootcamp didukung oleh Youth Co:Lab dan Pijar Foundation
URL:https://berdayahub.com/event/sayur-sleman-academy-bootcamp-2024/
ATTACH;FMTTYPE=image/jpeg:https://berdayahub.com/wp-content/uploads/2024/06/447771988_809880494196578_106115561931230260_n.jpeg
END:VEVENT
BEGIN:VEVENT
DTSTART;VALUE=DATE:20240605
DTEND;VALUE=DATE:20240701
DTSTAMP:20260421T230304
CREATED:20240618T035929Z
LAST-MODIFIED:20240618T042844Z
UID:2942-1717545600-1719791999@berdayahub.com
SUMMARY:Startup World Cup 2024
DESCRIPTION:Win a $1 Million Investment Prize! 🚀\nCalling all startups from Southeast Asia! If you’re from Indonesia\, Laos\, Cambodia\, Brunei Darussalam\, Thailand\, or Singapore\, don’t miss your chance to compete for the Startup World Cup Winner title and a $1 million investment prize! \nWhy Compete?\n\nNetwork: Connect with top global startup founders and investors.\nPitch: Present your ideas on a prestigious stage in San Francisco\, USA.\nExposure: Showcase your business to a panel of high-caliber judges and speakers. (Psst\, last year’s grand finals featured Steve Wozniak\, Co-founder of Apple\, and Reid Hoffman\, Founder & CEO of LinkedIn!)\n\nImportant Details:\n\nRegister Now: bit.ly/SEA-JoinSWC2024\nSubmission Deadline: June 30\, 2024\n\nFor more information\, visit lift-innovation.com/swc
URL:https://berdayahub.com/event/startup-world-cup-2024/
ATTACH;FMTTYPE=image/jpeg:https://berdayahub.com/wp-content/uploads/2024/06/447861727_17946023882810283_4568441177883100740_n.jpg
END:VEVENT
BEGIN:VEVENT
DTSTART;VALUE=DATE:20240604
DTEND;VALUE=DATE:20240712
DTSTAMP:20260421T230304
CREATED:20240616T030856Z
LAST-MODIFIED:20240618T044634Z
UID:2914-1717459200-1720742399@berdayahub.com
SUMMARY:(Youth Upskilling) DBS Berpijar Batch 3
DESCRIPTION:Pendaftaran DBS Berpijar Batch 3 telah dibuka! 🎉 \nDBS Berpijar merupakan program pengembangan kapasitas hasil kolaborasi dari Bank DBS Indonesia dengan Pijar Foundation. Program ini bertujuan untuk mengembangkan keterampilan generasi muda di bidang kepemimpinan\, literasi finansial\, serta persiapan karir untuk memasuki dunia kerja. \nProgram DBS Berpijar Batch 3 dapat diikuti secara GRATIS oleh semua orang yang ingin lebih siap menghadapi masa depan! \nSegera daftarkan dirimu melalui 👉 s.id/DAFTAR-DBSBERPIJAR3 atau klik link di bio. \nJadi jangan sampai melewatkan kesempatan untuk belajar bersama praktisi dan profesional dari bank yang ingin kamu untuk
URL:https://berdayahub.com/event/youth-upskilling-dbs-berpijar-batch-3/
ATTACH;FMTTYPE=image/jpeg:https://berdayahub.com/wp-content/uploads/2024/06/447773725_473785735567556_8449122418112925796_n-1.jpg
END:VEVENT
BEGIN:VEVENT
DTSTART;VALUE=DATE:20240602
DTEND;VALUE=DATE:20240701
DTSTAMP:20260421T230304
CREATED:20240617T073941Z
LAST-MODIFIED:20240618T042451Z
UID:2931-1717286400-1719791999@berdayahub.com
SUMMARY:[Digitalpreneurs Incubation Program] Hatch x PEDE Bali
DESCRIPTION:📢 Attention digitalpreneurs from Bali and surrounding areas!\n\n\n\n\n\n\n\n\n\n\nThe application period for the Hatch x PEDE Bali Cohort is now open! \nJoin our incubation program and enjoy benefits such as: \n\n📈 Strategic workshops to refine your business model\, market entry strategy\, and MVP\n🤝 Mentoring sessions with professionals who understand your business needs\n💡 Pitching opportunities to potential investors\n🌍 Access to the vast networks of UK-Indonesia Tech Hub\, Kominfo\, and Instellar …and much more!\n\nDigitalpreneurs from Bali\, Lombok\, Banyuwangi\, Nusa Tenggara\, Madura\, Sumbawa\, and beyond are encouraged to apply! \n🔗 Apply now: instellar.id/pede
URL:https://berdayahub.com/event/digitalpreneurs-incubation-program-hatch-x-pede-bali/
ATTACH;FMTTYPE=image/jpeg:https://berdayahub.com/wp-content/uploads/2024/06/448168324_7487214058073973_2174019572503412365_n.jpeg
END:VEVENT
BEGIN:VEVENT
DTSTART;VALUE=DATE:20240517
DTEND;VALUE=DATE:20240604
DTSTAMP:20260421T230304
CREATED:20240616T075756Z
LAST-MODIFIED:20240618T042240Z
UID:2920-1715904000-1717459199@berdayahub.com
SUMMARY:[Capacity Building Workshop] ANJANI (Gerakan Maju Perempuan Indonesia)
DESCRIPTION:P&G Indonesia is proud to announce that we are inviting Women Entrepreneurs into ANJANI (Gerakan Maju Perempuan Indonesia) fourth edition\, that will be held on 12-14 June 2024🎉 \nANJANI is opening applications for Women-owned businesses\, Women-led businesses\, and aspiring Women entrepreneurs\, for a 3-day capability program to enhance your entrepreneurship skill and connect with P&G. \nRegister NOW via this link bit.ly/anjaniregistration\, by the latest June 3rd\, 2024!
URL:https://berdayahub.com/event/capacity-building-workshop-anjani-gerakan-maju-perempuan-indonesia/
ATTACH;FMTTYPE=image/jpeg:https://berdayahub.com/wp-content/uploads/2024/06/441583263_18075860476491967_306316600674814797_n.jpg
END:VEVENT
BEGIN:VEVENT
DTSTART;VALUE=DATE:20240430
DTEND;VALUE=DATE:20240601
DTSTAMP:20260421T230304
CREATED:20240616T081141Z
LAST-MODIFIED:20240618T042054Z
UID:2925-1714435200-1717199999@berdayahub.com
SUMMARY:[Women Leadership Program] The Women’s Earth Alliance Grassroots Accelerator Indonesia
DESCRIPTION:The Women’s Earth Alliance Grassroots Accelerator Indonesia is a four-month leadership program tailored to support Indonesian women leaders. The program aims to enhance participants’ skills\, knowledge\, tools\, and networks to amplify the impact of environmental and climate initiatives. \nParticipant Eligibility\nWe seek women environmental leaders who: \n\nWork in critical ecosystems such as peatlands\, mangrove forests\, national parks\, conservation areas\, nature reserves\, etc.\nAre active in non-profit leadership\, grassroots advocacy\, business\, community empowerment\, or movement building with a focus on the environment and climate.\nImplement or plan to implement economic empowerment and/or entrepreneurship projects or initiatives.\nAre committed to enhancing personal capacity to expand the impact of their initiatives.\nAre interested in engaging with people from diverse cultures\, religions\, traditions\, and beliefs.\n\nWEA leaders work in these intersectional areas (and beyond): \n\nClimate Conservation\nEconomics\nEducation\nEnergy\nFood and Agriculture\nHealth and Safety\nIndigenous Lifeways\nWaste Management\nWater\n\nProgram Benefits\nExpand Impact \n\nStrengthen and unify climate initiatives led by women\, generating measurable and sustainable impacts for the global environment\, economies\, and communities.\n\nNetwork with Other Leaders \n\nBecome part of a national and global network of grassroots environmental leaders\, gaining access to new funding\, sharing best practices with peers\, and gaining visibility at both national and global levels.\n\nShare Resources \n\nGain professional development in leadership\, entrepreneurship\, advocacy\, communication\, and technical solutions from global facilitators\, regional experts\, and cohort peers.\n\nThrough This Program\, You Will Gain:\n\nSkills in professional development\, leadership\, economic justice\, advocacy\, communications\, and environmental innovations\, facilitated by issue experts and cohort peers.\nProfessionally produced media assets to amplify the impact of your work.\nA US$ 1\,500 seed grant opportunity to grow your high-impact climate/environmental initiatives\, campaigns\, or policy platforms.\nOngoing one-on-one expert and peer mentoring to support your personal and professional development.\nVisibility within national and international WEA networks.\nA comprehensive action plan to accelerate your climate/environmental initiative\, including an impact framework and metrics\, implementation strategy\, timeline\, and budget.\nSkill and knowledge exchange within working groups (e.g.\, water and sanitation\, regenerative agriculture\, economic development\, indigenous lifeways\, etc.).\nAccess to WEA accelerator alumni resources\, networks\, and a repository of best practices.\nOngoing global alliance support to implement your action plans\, designed for long-term sustainability\, policy change\, and environmental and climate resilience.\n\nClick here to apply
URL:https://berdayahub.com/event/women-leadership-program-the-womens-earth-alliance-grassroots-accelerator-indonesia/
ATTACH;FMTTYPE=image/jpeg:https://berdayahub.com/wp-content/uploads/2024/06/441027205_792186262852275_6756712604641302709_n.jpg
END:VEVENT
BEGIN:VEVENT
DTSTART;VALUE=DATE:20240417
DTEND;VALUE=DATE:20240701
DTSTAMP:20260421T230304
CREATED:20240617T074655Z
LAST-MODIFIED:20240618T041455Z
UID:2933-1713312000-1719791999@berdayahub.com
SUMMARY:[Capacity Building and Funding Opportunity] ASEAN Blue Innovation Challenge
DESCRIPTION:The ASEAN Blue Innovation Challenge is a unique initiative aimed at promoting the blue economy in ASEAN countries and Timor-Leste. \nThis challenge seeks to identify\, finance\, and support innovative solutions for the conservation and sustainable management of marine ecosystems\, coastal areas\, and freshwater resources. Beyond financial support\, it also connects innovators with potential stakeholders\, including investors and business entities. \nTopics Addressed\nClimate Issues Climate change poses significant challenges to critical sectors of the blue economy\, such as fisheries\, aquaculture\, and tourism. Traditional approaches alone are insufficient\, necessitating novel solutions. Innovators\, with their adaptability and inventive spirit\, are pivotal in developing transformative technologies to mitigate and adapt to climate impacts\, fostering a more sustainable future. \nMarine Plastic Pollution Oceans face a serious plastic pollution problem\, harming marine life and ecosystems and affecting the food chain. Traditional methods like beach clean-ups and recycling help\, but are not enough to tackle the millions of tons of plastic entering the oceans every year. Fresh ideas from innovators\, who think differently and challenge old methods\, are crucial. \nSustainable Fisheries The rising global demand for fish has driven the development of fishing technology\, but this has led to overexploitation and degradation of fishery resources. Innovators hold the key to developing technologies and solutions that ensure healthy fish stocks and thriving local communities for generations to come. \nSustainable Tourism Unsustainable tourism management in coastal\, freshwater\, and marine zones often harms delicate environments\, exploiting resources and contributing to pollution. Innovation is crucial for shifting towards sustainable practices\, including eco-friendly lodging\, low-impact transportation\, empowering local communities\, and promoting regenerative tourism models. \nBenefits\nFor 60 Selected Awardees \n\nCapacity building program\, including technical assistance and mentorship during the piloting period.\nUp to USD 40\,000 for a six-month pilot or proof of concept of the innovations.\n\nFor All Participants \n\nOutreach: Solutions submitted could be included in upcoming UNDP publications shared with national\, regional\, and global partners for public outreach\, upon consent.\n\nEligibility Criteria\n\nA minimum of three people representing a legal entity/organization.\nTeams must have male and female members to ensure gender balance.\nTeam members must be at least 18 years old and citizens of ASEAN Member States and/or Timor-Leste.\nSubmit registration and administrative requirements through the online form.\nHave at least one year in operation or established before April 2023.\nHave good financial standing\, proven by records of ongoing and completed projects in the last year and a reference from a previous client/partner.\n\nFor more information\, visit this link . \n\n\n\n\n\n\n\n 
URL:https://berdayahub.com/event/capacity-building-and-funding-opportunity-asean-blue-innovation-challenge/
ATTACH;FMTTYPE=image/jpeg:https://berdayahub.com/wp-content/uploads/2024/06/440386874_1601571230609413_3261918268809754962_n.jpeg
END:VEVENT
END:VCALENDAR