BEGIN:VCALENDAR
VERSION:2.0
PRODID:-//Berdaya Media - ECPv6.9.1//NONSGML v1.0//EN
CALSCALE:GREGORIAN
METHOD:PUBLISH
X-ORIGINAL-URL:https://berdayahub.com
X-WR-CALDESC:Events for Berdaya Media
REFRESH-INTERVAL;VALUE=DURATION:PT1H
X-Robots-Tag:noindex
X-PUBLISHED-TTL:PT1H
BEGIN:VTIMEZONE
TZID:UTC
BEGIN:STANDARD
TZOFFSETFROM:+0000
TZOFFSETTO:+0000
TZNAME:UTC
DTSTART:20240101T000000
END:STANDARD
END:VTIMEZONE
BEGIN:VEVENT
DTSTART;VALUE=DATE:20240824
DTEND;VALUE=DATE:20240825
DTSTAMP:20260420T011852
CREATED:20240731T093637Z
LAST-MODIFIED:20240731T174215Z
UID:3808-1724457600-1724543999@berdayahub.com
SUMMARY:[Summit] Indonesia Net-Zero Summit 2024
DESCRIPTION:Indonesia Net-Zero Summit (INZS) is a climate conference organized by the Foreign Policy Community of Indonesia (FPCI). This event serves as a forum for ministers\, officials\, diplomats\, activists\, celebrities\, youth\, civil society\, and various other groups to discuss climate issues\, especially in Indonesia. This initiative aims to gather and strengthen Indonesia’s commitment to addressing the climate crisis for the future of the nation. \nThis year\, INZS is back with the aim of becoming a focal point in transforming climate aspirations into effective net-zero policies and sustainable initiatives that have an impact\, involving all stakeholders in Indonesia. \nTopics  \n\nFrom Ambition to Action: Climate Strategy Towards Golden Indonesia 2045!\nCan We Get Serious Now? Accelerate the Renewable Energy Transition Now!\nCan Indonesia Fund a Way Out of the Climate Crisis?\nParadise Under Threat or Protected?: Indonesia’s Natural Wealth as a Climate Solution\nWalking the Talk: Which Countries Are the Best at Taking Action Against Climate Change?\nPricing Carbon Right: Where Are Our Carbon Emission Policies Going?\nDisasters Everywhere: Understanding the Impact of the Climate Crisis on Us All\nGreen Technologies That Can Save Humanity\nIndonesia in the Midst of Geopolitical Battles Climate Change Battles\, Impacts and Responses\nPeople\, Planet\, Profit: Changing the Mindset of Indonesian Entrepreneurs to Successfully Compete in the Green Economy Era\nComedy Sessions Battle of the Brains: Climate Edition\n\nWebsite: https://www.fpciclimate.org/
URL:https://berdayahub.com/event/summit-indonesia-net-zero-summit-2024/
LOCATION:Djakarta Theater XXI\, Jl. M.H. Thamrin No.9\, RT.2/RW.1\, Kb. Sirih\, Kec. Menteng\, Kota Jakarta Pusat\, Jakarta\, Jakarta\, DKI Jakarta\, 10230\, Indonesia
CATEGORIES:Summit
ATTACH;FMTTYPE=image/jpeg:https://berdayahub.com/wp-content/uploads/2024/07/netzerosummitlogo.jpeg
END:VEVENT
END:VCALENDAR